BEGIN:VCALENDAR
VERSION:2.0
PRODID:-//Rugby Academy ZuidWest - ECPv5.2.1.1//NONSGML v1.0//EN
CALSCALE:GREGORIAN
METHOD:PUBLISH
X-WR-CALNAME:Rugby Academy ZuidWest
X-ORIGINAL-URL:https://rugbyacademyzuidwest.nl
X-WR-CALDESC:Evenementen voor Rugby Academy ZuidWest
BEGIN:VTIMEZONE
TZID:Europe/Paris
BEGIN:DAYLIGHT
TZOFFSETFROM:+0100
TZOFFSETTO:+0200
TZNAME:CEST
DTSTART:20210328T010000
END:DAYLIGHT
BEGIN:STANDARD
TZOFFSETFROM:+0200
TZOFFSETTO:+0100
TZNAME:CET
DTSTART:20211031T010000
END:STANDARD
END:VTIMEZONE
BEGIN:VEVENT
DTSTART;VALUE=DATE:20210906
DTEND;VALUE=DATE:20210907
DTSTAMP:20260426T062520
CREATED:20210831T201132Z
LAST-MODIFIED:20210831T201132Z
UID:6080-1630886400-1630972799@rugbyacademyzuidwest.nl
SUMMARY:start Academy trainingen locatie Den Haag
DESCRIPTION:
URL:https://rugbyacademyzuidwest.nl/agenda/start-academy-trainingen-locatie-den-haag/
END:VEVENT
END:VCALENDAR