BEGIN:VCALENDAR
VERSION:2.0
PRODID:-//Rugby Academy ZuidWest - ECPv5.2.1.1//NONSGML v1.0//EN
CALSCALE:GREGORIAN
METHOD:PUBLISH
X-WR-CALNAME:Rugby Academy ZuidWest
X-ORIGINAL-URL:https://rugbyacademyzuidwest.nl
X-WR-CALDESC:Evenementen voor Rugby Academy ZuidWest
BEGIN:VTIMEZONE
TZID:Europe/Paris
BEGIN:DAYLIGHT
TZOFFSETFROM:+0100
TZOFFSETTO:+0200
TZNAME:CEST
DTSTART:20220327T010000
END:DAYLIGHT
BEGIN:STANDARD
TZOFFSETFROM:+0200
TZOFFSETTO:+0100
TZNAME:CET
DTSTART:20221030T010000
END:STANDARD
END:VTIMEZONE
BEGIN:VEVENT
DTSTART;VALUE=DATE:20220321
DTEND;VALUE=DATE:20220325
DTSTAMP:20260426T031432
CREATED:20220203T100541Z
LAST-MODIFIED:20220203T101653Z
UID:6297-1647820800-1648166399@rugbyacademyzuidwest.nl
SUMMARY:Trainingsweek U15-U16
DESCRIPTION:Net als de andere trainingsweken dit jaar vindt deze in Nederland plaats en maken we wederom gebruik van de nu reeds vertrouwde accommodatie Buitengoed de Panoven in Zevenaar en de gastvrijheid van de Zevenaarse rugbyclub De Duuvels. De wedstrijd wordt\, zoals gebruikelijk\, op de woensdag (23 maart) gespeeld en zolang de Covid maatregelen het toelaten is publiek van harte welkom. 
URL:https://rugbyacademyzuidwest.nl/agenda/trainingsweek-u15-u16/
END:VEVENT
END:VCALENDAR